BEGIN:VCALENDAR
VERSION:2.0
PRODID:-//Veteranen hart van Brabant - ECPv6.15.20//NONSGML v1.0//EN
CALSCALE:GREGORIAN
METHOD:PUBLISH
X-WR-CALNAME:Veteranen hart van Brabant
X-ORIGINAL-URL:http://veteranenhvb.nl
X-WR-CALDESC:Evenementen voor Veteranen hart van Brabant
REFRESH-INTERVAL;VALUE=DURATION:PT1H
X-Robots-Tag:noindex
X-PUBLISHED-TTL:PT1H
BEGIN:VTIMEZONE
TZID:Europe/Amsterdam
BEGIN:DAYLIGHT
TZOFFSETFROM:+0100
TZOFFSETTO:+0200
TZNAME:CEST
DTSTART:20250330T010000
END:DAYLIGHT
BEGIN:STANDARD
TZOFFSETFROM:+0200
TZOFFSETTO:+0100
TZNAME:CET
DTSTART:20251026T010000
END:STANDARD
BEGIN:DAYLIGHT
TZOFFSETFROM:+0100
TZOFFSETTO:+0200
TZNAME:CEST
DTSTART:20260329T010000
END:DAYLIGHT
BEGIN:STANDARD
TZOFFSETFROM:+0200
TZOFFSETTO:+0100
TZNAME:CET
DTSTART:20261025T010000
END:STANDARD
BEGIN:DAYLIGHT
TZOFFSETFROM:+0100
TZOFFSETTO:+0200
TZNAME:CEST
DTSTART:20270328T010000
END:DAYLIGHT
BEGIN:STANDARD
TZOFFSETFROM:+0200
TZOFFSETTO:+0100
TZNAME:CET
DTSTART:20271031T010000
END:STANDARD
END:VTIMEZONE
BEGIN:VEVENT
DTSTART;TZID=Europe/Amsterdam:20260423T130000
DTEND;TZID=Europe/Amsterdam:20260423T170000
DTSTAMP:20260423T015303
CREATED:20260326T150010Z
LAST-MODIFIED:20260407T115858Z
UID:1414-1776949200-1776963600@veteranenhvb.nl
SUMMARY:Bezoek Traditiekamer Vliegbasis Gilze-Rijen 23 april 2026
DESCRIPTION:Wij zijn in de traditiekamer welkom op donderdag 23 april van 13:00 tot 17:00 uur.\nOmdat het een bezoek is aan een operationeel vliegveld zijn er wel voorwaarden waaraan we moeten voldoen voordat we überhaupt de vliegbasis op kunnen.\nRegistratie voor dit evenement is dan ook verplicht via het inschrijfformulier.   <– de inschrijving is gesloten met ingang van 7 april 2026  \nNa je aanmelding informeren wij je in de week voorafgaand aan het evenement of je kunt deelnemen en over de details van locatie\,  tijdstip melden\, toegang\, etc. \nHet bezoek is onder voorbehoud\,  met betrekking tot het aantal aanmeldingen VOL is VOL. maar ook als de veiligheidssituatie in Nederland of Europa wijzigen dan kan het gebeuren dat de Traditiekamer Gilze Rijen geen bezoekers meer mag ontvangen op de vliegbasis Gilze Rijen.\nEr zijn geen kosten verbonden aan dit bezoek\, wel dien je op eigen gelegenheid naar de basis komen (of carpoolen). \nLet op; De traditiekamer is echter slecht toegankelijk voor rolstoelers en rollators (expositie op begane grond en 1e verdieping). Er zijn helaas geen liftvoorzieningen. \n 
URL:http://veteranenhvb.nl/event/bezoek-traditiekamer-vliegbasis-gilze-rijen-23-april-2026/
END:VEVENT
END:VCALENDAR