BEGIN:VCALENDAR
VERSION:2.0
PRODID:-//Veteranen hart van Brabant - ECPv6.15.20//NONSGML v1.0//EN
CALSCALE:GREGORIAN
METHOD:PUBLISH
X-ORIGINAL-URL:http://veteranenhvb.nl
X-WR-CALDESC:Evenementen voor Veteranen hart van Brabant
REFRESH-INTERVAL;VALUE=DURATION:PT1H
X-Robots-Tag:noindex
X-PUBLISHED-TTL:PT1H
BEGIN:VTIMEZONE
TZID:Europe/Amsterdam
BEGIN:DAYLIGHT
TZOFFSETFROM:+0100
TZOFFSETTO:+0200
TZNAME:CEST
DTSTART:20240331T010000
END:DAYLIGHT
BEGIN:STANDARD
TZOFFSETFROM:+0200
TZOFFSETTO:+0100
TZNAME:CET
DTSTART:20241027T010000
END:STANDARD
BEGIN:DAYLIGHT
TZOFFSETFROM:+0100
TZOFFSETTO:+0200
TZNAME:CEST
DTSTART:20250330T010000
END:DAYLIGHT
BEGIN:STANDARD
TZOFFSETFROM:+0200
TZOFFSETTO:+0100
TZNAME:CET
DTSTART:20251026T010000
END:STANDARD
BEGIN:DAYLIGHT
TZOFFSETFROM:+0100
TZOFFSETTO:+0200
TZNAME:CEST
DTSTART:20260329T010000
END:DAYLIGHT
BEGIN:STANDARD
TZOFFSETFROM:+0200
TZOFFSETTO:+0100
TZNAME:CET
DTSTART:20261025T010000
END:STANDARD
END:VTIMEZONE
BEGIN:VEVENT
DTSTART;TZID=Europe/Amsterdam:20250628T160000
DTEND;TZID=Europe/Amsterdam:20250628T220000
DTSTAMP:20260423T204032
CREATED:20250518T171113Z
LAST-MODIFIED:20250620T112504Z
UID:942-1751126400-1751148000@veteranenhvb.nl
SUMMARY:Geannuleerd! Alternatieve Veteranendag in het VOC met een BBQ!
DESCRIPTION:Dit evenement is komen te vervallen.\nZet deze dag alvast in uw agenda! \nVoor de mensen die niet naar Den Haag gaan of kunnen op zaterdag 28 juni\, zal het VOC geopend zijn met aansluitend een Barbecue. \nU kunt zich inschrijven voor de BBQ op 28 juni 2025 door HIER te klikken. De kosten bedragen 12\,50 per persoon. \n  \n  \n 
URL:http://veteranenhvb.nl/event/alternatieve-veteranendag-in-het-voc-met-een-bbq/
CATEGORIES:BBQ
ATTACH;FMTTYPE=image/jpeg:http://veteranenhvb.nl/wp-content/uploads/2025/05/roken-grillen-bbq.jpg
END:VEVENT
BEGIN:VEVENT
DTSTART;TZID=Europe/Amsterdam:20250829T163000
DTEND;TZID=Europe/Amsterdam:20250829T223000
DTSTAMP:20260423T204032
CREATED:20250112T202517Z
LAST-MODIFIED:20250812T184014Z
UID:861-1756485000-1756506600@veteranenhvb.nl
SUMMARY:Zomer BBQ
DESCRIPTION:Op vrijdag 29 augustus organiseren we een BBQ in het VOC. U bent van harte welkom met partner of begeleider vanaf 16:30. De kosten bedragen 15\,00 euro p.p. inclusief een consumptie en u dient zich vooraf aan te melden en te betalen. U kunt zich aanmelden via de website of door hier te klikken. \n  \ntijd: 16:30 – 22:30 \nHet adres van het VOC is:\nMatterhornstraat 1\n5022 PA Tilburg
URL:http://veteranenhvb.nl/event/netwerkborrel-18/
LOCATION:Veteranen Ontmoetingscentrum\, Matterhornstraat 1\, Tilburg\, Nederland
CATEGORIES:BBQ
ATTACH;FMTTYPE=image/jpeg:http://veteranenhvb.nl/wp-content/uploads/2025/05/roken-grillen-bbq.jpg
END:VEVENT
END:VCALENDAR