BEGIN:VCALENDAR
VERSION:2.0
PRODID:-//Veteranen hart van Brabant - ECPv6.15.20//NONSGML v1.0//EN
CALSCALE:GREGORIAN
METHOD:PUBLISH
X-WR-CALNAME:Veteranen hart van Brabant
X-ORIGINAL-URL:http://veteranenhvb.nl
X-WR-CALDESC:Evenementen voor Veteranen hart van Brabant
REFRESH-INTERVAL;VALUE=DURATION:PT1H
X-Robots-Tag:noindex
X-PUBLISHED-TTL:PT1H
BEGIN:VTIMEZONE
TZID:Europe/Amsterdam
BEGIN:DAYLIGHT
TZOFFSETFROM:+0100
TZOFFSETTO:+0200
TZNAME:CEST
DTSTART:20240331T010000
END:DAYLIGHT
BEGIN:STANDARD
TZOFFSETFROM:+0200
TZOFFSETTO:+0100
TZNAME:CET
DTSTART:20241027T010000
END:STANDARD
BEGIN:DAYLIGHT
TZOFFSETFROM:+0100
TZOFFSETTO:+0200
TZNAME:CEST
DTSTART:20250330T010000
END:DAYLIGHT
BEGIN:STANDARD
TZOFFSETFROM:+0200
TZOFFSETTO:+0100
TZNAME:CET
DTSTART:20251026T010000
END:STANDARD
BEGIN:DAYLIGHT
TZOFFSETFROM:+0100
TZOFFSETTO:+0200
TZNAME:CEST
DTSTART:20260329T010000
END:DAYLIGHT
BEGIN:STANDARD
TZOFFSETFROM:+0200
TZOFFSETTO:+0100
TZNAME:CET
DTSTART:20261025T010000
END:STANDARD
END:VTIMEZONE
BEGIN:VEVENT
DTSTART;TZID=Europe/Amsterdam:20250807T190000
DTEND;TZID=Europe/Amsterdam:20250807T223000
DTSTAMP:20260423T142443
CREATED:20250518T171858Z
LAST-MODIFIED:20250519T192847Z
UID:945-1754593200-1754605800@veteranenhvb.nl
SUMMARY:Netwerkborrel en lezing “van Oost naar West”
DESCRIPTION:In aanloop naar de Nederlands-Indië en einde 2de wereldoorlog herdenking van 15 augustus\, is er een lezing “van Oost naar West”  waarin de rol van het KNIL in Indië voor- tijdens en na de 2de wereldoorlog wordt toegelicht\, maar ook de verhuizing van mensen uit Indië naar Nederland en het vervolg daarop. Daarnaast wordt er stil gestaan tijdens de lezing bij de geschiedenis van het voormalig Nederlands-Indië en het Nederlands-Indische familieverhaal van Humphrey \nDe lezing zal verzorgd worden door Humphrey Martherus\, Ambassadeur van Stichting Pelita voor de regio Tilburg\nTilburg\, Noord-Brabant\, Nederland \n– Ambassadeur van Stichting Pelita voor de regio Tilburg:\n* Al meer dan 75 jaar biedt Stichting Pelita aan mensen met een achtergrond in het voormalig Nederlands-Indië ondersteuning in welzijn\, maatschappelijke dienstverlening en contextgebonden zorg. \n– Voorzitter Burgerinitiatief Nederlands-Indië Herdenking Tilburg:\n* Nederlands-Indië Herdenking 15 augustus 1945 in Tilburg. \n 
URL:http://veteranenhvb.nl/event/netwerkborrel-en-lezing-van-oost-naar-west/
LOCATION:Veteranen Ontmoetingscentrum\, Matterhornstraat 1\, Tilburg\, Nederland
CATEGORIES:Lezing
ATTACH;FMTTYPE=image/jpeg:http://veteranenhvb.nl/wp-content/uploads/2024/01/AndrCDoevendans-IndiaMonument-Vrijheidspark-31102020-JostijnLigtvoetFotografie-2-1536x864-1.jpg
END:VEVENT
END:VCALENDAR