BEGIN:VCALENDAR
VERSION:2.0
PRODID:-//Veteranen hart van Brabant - ECPv6.15.20//NONSGML v1.0//EN
CALSCALE:GREGORIAN
METHOD:PUBLISH
X-ORIGINAL-URL:http://veteranenhvb.nl
X-WR-CALDESC:Evenementen voor Veteranen hart van Brabant
REFRESH-INTERVAL;VALUE=DURATION:PT1H
X-Robots-Tag:noindex
X-PUBLISHED-TTL:PT1H
BEGIN:VTIMEZONE
TZID:Europe/Amsterdam
BEGIN:DAYLIGHT
TZOFFSETFROM:+0100
TZOFFSETTO:+0200
TZNAME:CEST
DTSTART:20240331T010000
END:DAYLIGHT
BEGIN:STANDARD
TZOFFSETFROM:+0200
TZOFFSETTO:+0100
TZNAME:CET
DTSTART:20241027T010000
END:STANDARD
BEGIN:DAYLIGHT
TZOFFSETFROM:+0100
TZOFFSETTO:+0200
TZNAME:CEST
DTSTART:20250330T010000
END:DAYLIGHT
BEGIN:STANDARD
TZOFFSETFROM:+0200
TZOFFSETTO:+0100
TZNAME:CET
DTSTART:20251026T010000
END:STANDARD
BEGIN:DAYLIGHT
TZOFFSETFROM:+0100
TZOFFSETTO:+0200
TZNAME:CEST
DTSTART:20260329T010000
END:DAYLIGHT
BEGIN:STANDARD
TZOFFSETFROM:+0200
TZOFFSETTO:+0100
TZNAME:CET
DTSTART:20261025T010000
END:STANDARD
END:VTIMEZONE
BEGIN:VEVENT
DTSTART;TZID=Europe/Amsterdam:20250515T193000
DTEND;TZID=Europe/Amsterdam:20250515T223000
DTSTAMP:20260423T221550
CREATED:20250112T202329Z
LAST-MODIFIED:20250404T191634Z
UID:855-1747337400-1747348200@veteranenhvb.nl
SUMMARY:Netwerkborrel / Lezing de NAVO toen en nu
DESCRIPTION:De huidige ontwikkelingen in de wereld zetten de vrijheid die we de afgelopen 80 jaar hebben gekend onder druk. Zeker na het uiteenvallen van het Warschaupact\, verwachte het “Westen” dat oorlog op het Europees continent tot het verleden zou behoren. Jaren van bezuinigingen volgenden bij de ministeries van defensie in heel Europa. Er was blind vertrouwen op onze “partner” maar die lijkt nu een andere kant op te willen. \nIn de lezing\, de NAVO toen en nu wordt stil gestaan bij de historische en huidige ontwikkelingen en wat de complicaties en implicaties zijn voor Nederland\, het Westen en de NAVO. Deze lezing wordt op 15 mei gegeven door Niels Steinmetz in het VOC. \n  \ntijd: 19:30 – 22:30 \nHet adres van het VOC is:\nMatterhornstraat 1\n5022 PA Tilburg
URL:http://veteranenhvb.nl/event/netwerkborrel-15/
LOCATION:Veteranen Ontmoetingscentrum\, Matterhornstraat 1\, Tilburg\, Nederland
CATEGORIES:Lezing,Netwerkborrel
ATTACH;FMTTYPE=image/png:http://veteranenhvb.nl/wp-content/uploads/2025/01/NATO_OTAN_landscape_logo.svg_.png
END:VEVENT
END:VCALENDAR