BEGIN:VCALENDAR
VERSION:2.0
PRODID:-//Veteranen hart van Brabant - ECPv6.15.20//NONSGML v1.0//EN
CALSCALE:GREGORIAN
METHOD:PUBLISH
X-ORIGINAL-URL:http://veteranenhvb.nl
X-WR-CALDESC:Evenementen voor Veteranen hart van Brabant
REFRESH-INTERVAL;VALUE=DURATION:PT1H
X-Robots-Tag:noindex
X-PUBLISHED-TTL:PT1H
BEGIN:VTIMEZONE
TZID:Europe/Amsterdam
BEGIN:DAYLIGHT
TZOFFSETFROM:+0100
TZOFFSETTO:+0200
TZNAME:CEST
DTSTART:20240331T010000
END:DAYLIGHT
BEGIN:STANDARD
TZOFFSETFROM:+0200
TZOFFSETTO:+0100
TZNAME:CET
DTSTART:20241027T010000
END:STANDARD
BEGIN:DAYLIGHT
TZOFFSETFROM:+0100
TZOFFSETTO:+0200
TZNAME:CEST
DTSTART:20250330T010000
END:DAYLIGHT
BEGIN:STANDARD
TZOFFSETFROM:+0200
TZOFFSETTO:+0100
TZNAME:CET
DTSTART:20251026T010000
END:STANDARD
BEGIN:DAYLIGHT
TZOFFSETFROM:+0100
TZOFFSETTO:+0200
TZNAME:CEST
DTSTART:20260329T010000
END:DAYLIGHT
BEGIN:STANDARD
TZOFFSETFROM:+0200
TZOFFSETTO:+0100
TZNAME:CET
DTSTART:20261025T010000
END:STANDARD
END:VTIMEZONE
BEGIN:VEVENT
DTSTART;TZID=Europe/Amsterdam:20251016T193000
DTEND;TZID=Europe/Amsterdam:20251016T223000
DTSTAMP:20260423T123410
CREATED:20250112T202628Z
LAST-MODIFIED:20251016T152559Z
UID:865-1760643000-1760653800@veteranenhvb.nl
SUMMARY:Netwerkborrel
DESCRIPTION:LET OP  deze maand (oktober 2025)  geen Lezing. \nIedere derde donderdag van de maand is er een netwerkborrel in het VOC. U bent van harte welkom met partner. \ntijd: 19:30 – 22:30 \nHet adres van het VOC is:\nMatterhornstraat 1\n5022 PA Tilburg
URL:http://veteranenhvb.nl/event/netwerkborrel-20/
LOCATION:Veteranen Ontmoetingscentrum\, Matterhornstraat 1\, Tilburg\, Nederland
CATEGORIES:Lezing,Netwerkborrel
END:VEVENT
END:VCALENDAR